BEGIN:VCALENDAR
VERSION:2.0
PRODID:-//Every Texan - ECPv6.15.20//NONSGML v1.0//EN
CALSCALE:GREGORIAN
METHOD:PUBLISH
X-WR-CALNAME:Every Texan
X-ORIGINAL-URL:https://everytexan.org
X-WR-CALDESC:Events for Every Texan
REFRESH-INTERVAL;VALUE=DURATION:PT1H
X-Robots-Tag:noindex
X-PUBLISHED-TTL:PT1H
BEGIN:VTIMEZONE
TZID:America/New_York
BEGIN:DAYLIGHT
TZOFFSETFROM:-0500
TZOFFSETTO:-0400
TZNAME:EDT
DTSTART:20230312T070000
END:DAYLIGHT
BEGIN:STANDARD
TZOFFSETFROM:-0400
TZOFFSETTO:-0500
TZNAME:EST
DTSTART:20231105T060000
END:STANDARD
BEGIN:DAYLIGHT
TZOFFSETFROM:-0500
TZOFFSETTO:-0400
TZNAME:EDT
DTSTART:20240310T070000
END:DAYLIGHT
BEGIN:STANDARD
TZOFFSETFROM:-0400
TZOFFSETTO:-0500
TZNAME:EST
DTSTART:20241103T060000
END:STANDARD
BEGIN:DAYLIGHT
TZOFFSETFROM:-0500
TZOFFSETTO:-0400
TZNAME:EDT
DTSTART:20250309T070000
END:DAYLIGHT
BEGIN:STANDARD
TZOFFSETFROM:-0400
TZOFFSETTO:-0500
TZNAME:EST
DTSTART:20251102T060000
END:STANDARD
END:VTIMEZONE
BEGIN:VEVENT
DTSTART;TZID=America/New_York:20240807T120000
DTEND;TZID=America/New_York:20240807T130000
DTSTAMP:20260425T121225
CREATED:20240719T155905Z
LAST-MODIFIED:20240723T193700Z
UID:25805-1723032000-1723035600@everytexan.org
SUMMARY:Virtual Briefing: The People's Budget
DESCRIPTION:
URL:https://everytexan.org/events/peoples-budget-virtual-briefing/
ATTACH;FMTTYPE=image/png:https://everytexan.org/wp-content/uploads/2022/09/peoples-budget_brand-02.png
END:VEVENT
BEGIN:VEVENT
DTSTART;VALUE=DATE:20240807
DTEND;VALUE=DATE:20240808
DTSTAMP:20260425T121225
CREATED:20240723T193809Z
LAST-MODIFIED:20240723T193809Z
UID:25842-1722988800-1723075199@everytexan.org
SUMMARY:Listening Session: The People's Budget in Waco
DESCRIPTION:
URL:https://everytexan.org/events/listening-session-the-peoples-budget-in-waco/
LOCATION:Waco\, Texas
ATTACH;FMTTYPE=image/png:https://everytexan.org/wp-content/uploads/2022/09/peoples-budget_brand-02.png
END:VEVENT
BEGIN:VEVENT
DTSTART;VALUE=DATE:20240728
DTEND;VALUE=DATE:20240729
DTSTAMP:20260425T121225
CREATED:20240723T193618Z
LAST-MODIFIED:20240723T193618Z
UID:25838-1722124800-1722211199@everytexan.org
SUMMARY:Listening Session: The People's Budget in El Paso
DESCRIPTION:
URL:https://everytexan.org/events/listening-session-the-peoples-budget-in-el-paso/
LOCATION:El Paso\, Texas
ATTACH;FMTTYPE=image/png:https://everytexan.org/wp-content/uploads/2022/09/peoples-budget_brand-02.png
END:VEVENT
END:VCALENDAR